Package: MOSim Version: 2.0.0 Command: rm -rf MOSim.buildbin-libdir && mkdir MOSim.buildbin-libdir && /Users/biocbuild/BBS/utils/build-universal.sh MOSim_2.0.0.tar.gz /Library/Frameworks/R.framework/Resources/bin/R MOSim.buildbin-libdir StartedAt: 2024-10-17 16:38:45 -0400 (Thu, 17 Oct 2024) EndedAt: 2024-10-17 16:40:28 -0400 (Thu, 17 Oct 2024) EllapsedTime: 102.3 seconds RetCode: 0 Status: OK PackageFile: MOSim_2.0.0.tgz PackageFileSize: 6.625 MiB