Package: MOSim Version: 2.0.0 Command: /Library/Frameworks/R.framework/Resources/bin/R CMD check --install=check:MOSim.install-out.txt --library=/Library/Frameworks/R.framework/Resources/library --no-vignettes --timings MOSim_2.0.0.tar.gz StartedAt: 2024-05-26 22:41:08 -0400 (Sun, 26 May 2024) EndedAt: 2024-05-26 22:56:46 -0400 (Sun, 26 May 2024) EllapsedTime: 937.8 seconds RetCode: 0 Status: WARNINGS CheckDir: MOSim.Rcheck Warnings: 1