Package: MOSim Version: 2.0.0 Command: /Library/Frameworks/R.framework/Resources/bin/R CMD INSTALL MOSim StartedAt: 2024-10-16 18:28:51 -0400 (Wed, 16 Oct 2024) EndedAt: 2024-10-16 18:29:41 -0400 (Wed, 16 Oct 2024) EllapsedTime: 50.0 seconds RetCode: 0 Status: OK