Package: MOMA Version: 1.16.0 Command: chmod a+r MOMA -R && E:\biocbuild\bbs-3.19-bioc\R\bin\R.exe CMD build --keep-empty-dirs --no-resave-data MOMA StartedAt: 2024-10-16 20:25:38 -0400 (Wed, 16 Oct 2024) EndedAt: 2024-10-16 20:28:06 -0400 (Wed, 16 Oct 2024) EllapsedTime: 147.3 seconds RetCode: 0 Status: OK PackageFile: MOMA_1.16.0.tar.gz PackageFileSize: 4.222 MiB