Package: MOMA Version: 1.16.0 Command: rm -rf MOMA.buildbin-libdir && mkdir MOMA.buildbin-libdir && /Users/biocbuild/BBS/utils/build-universal.sh MOMA_1.16.0.tar.gz /Library/Frameworks/R.framework/Resources/bin/R MOMA.buildbin-libdir StartedAt: 2024-10-17 16:38:22 -0400 (Thu, 17 Oct 2024) EndedAt: 2024-10-17 16:39:41 -0400 (Thu, 17 Oct 2024) EllapsedTime: 79.5 seconds RetCode: 0 Status: OK PackageFile: MOMA_1.16.0.tgz PackageFileSize: 5.346 MiB