Package: MOMA Version: 1.16.0 Command: /Library/Frameworks/R.framework/Resources/bin/R CMD check --install=check:MOMA.install-out.txt --library=/Library/Frameworks/R.framework/Resources/library --no-vignettes --timings MOMA_1.16.0.tar.gz StartedAt: 2024-06-09 21:38:57 -0400 (Sun, 09 Jun 2024) EndedAt: 2024-06-09 21:42:48 -0400 (Sun, 09 Jun 2024) EllapsedTime: 231.5 seconds RetCode: 0 Status: OK CheckDir: MOMA.Rcheck Warnings: 0