Package: MOMA Version: 1.16.0 Command: /Library/Frameworks/R.framework/Resources/bin/R CMD build --keep-empty-dirs --no-resave-data MOMA StartedAt: 2024-06-09 17:20:28 -0400 (Sun, 09 Jun 2024) EndedAt: 2024-06-09 17:22:40 -0400 (Sun, 09 Jun 2024) EllapsedTime: 132.3 seconds RetCode: 0 Status: OK PackageFile: MOMA_1.16.0.tar.gz PackageFileSize: 4.263 MiB