Package: MOMA Version: 1.16.0 Command: /home/biocbuild/R/R-beta-2024-04-15_r86425/bin/R CMD check --install=check:MOMA.install-out.txt --library=/home/biocbuild/R/R-beta-2024-04-15_r86425/site-library --no-vignettes --timings MOMA_1.16.0.tar.gz StartedAt: 2024-05-09 09:38:53 -0000 (Thu, 09 May 2024) EndedAt: 2024-05-09 09:43:19 -0000 (Thu, 09 May 2024) EllapsedTime: 265.5 seconds RetCode: 0 Status: OK CheckDir: MOMA.Rcheck Warnings: 0