Package: MOGAMUN Version: 1.14.0 Command: chmod a+r MOGAMUN -R && F:\biocbuild\bbs-3.19-bioc\R\bin\R.exe CMD build --keep-empty-dirs --no-resave-data MOGAMUN StartedAt: 2024-06-26 20:11:23 -0400 (Wed, 26 Jun 2024) EndedAt: 2024-06-26 20:11:54 -0400 (Wed, 26 Jun 2024) EllapsedTime: 31.8 seconds RetCode: 0 Status: OK PackageFile: MOGAMUN_1.14.0.tar.gz PackageFileSize: 125.7 KiB