Package: MOGAMUN Version: 1.14.0 Command: /home/biocbuild/bbs-3.19-bioc/R/bin/R CMD check --install=check:MOGAMUN.install-out.txt --library=/home/biocbuild/bbs-3.19-bioc/R/site-library --timings MOGAMUN_1.14.0.tar.gz StartedAt: 2024-10-17 02:38:18 -0400 (Thu, 17 Oct 2024) EndedAt: 2024-10-17 02:39:12 -0400 (Thu, 17 Oct 2024) EllapsedTime: 54.1 seconds RetCode: 0 Status: OK CheckDir: MOGAMUN.Rcheck Warnings: 0