Package: MOGAMUN Version: 1.14.0 Command: /Library/Frameworks/R.framework/Resources/bin/R CMD build --keep-empty-dirs --no-resave-data MOGAMUN StartedAt: 2024-10-16 21:07:24 -0400 (Wed, 16 Oct 2024) EndedAt: 2024-10-16 21:08:01 -0400 (Wed, 16 Oct 2024) EllapsedTime: 36.7 seconds RetCode: 0 Status: OK PackageFile: MOGAMUN_1.14.0.tar.gz PackageFileSize: 125.6 KiB