Package: MOGAMUN Version: 1.14.0 Command: rm -rf MOGAMUN.buildbin-libdir && mkdir MOGAMUN.buildbin-libdir && /Users/biocbuild/BBS/utils/build-universal.sh MOGAMUN_1.14.0.tar.gz /Library/Frameworks/R.framework/Resources/bin/R MOGAMUN.buildbin-libdir StartedAt: 2024-06-10 00:27:51 -0400 (Mon, 10 Jun 2024) EndedAt: 2024-06-10 00:28:03 -0400 (Mon, 10 Jun 2024) EllapsedTime: 11.3 seconds RetCode: 0 Status: OK PackageFile: MOGAMUN_1.14.0.tgz PackageFileSize: 175.1 KiB