Package: MOGAMUN Version: 1.14.0 Command: /home/biocbuild/R/R-beta-2024-04-15_r86425/bin/R CMD check --install=check:MOGAMUN.install-out.txt --library=/home/biocbuild/R/R-beta-2024-04-15_r86425/site-library --no-vignettes --timings MOGAMUN_1.14.0.tar.gz StartedAt: 2024-05-09 09:37:56 -0000 (Thu, 09 May 2024) EndedAt: 2024-05-09 09:39:00 -0000 (Thu, 09 May 2024) EllapsedTime: 64.1 seconds RetCode: 0 Status: OK CheckDir: MOGAMUN.Rcheck Warnings: 0