Package: MOGAMUN Version: 1.14.0 Command: /Library/Frameworks/R.framework/Resources/bin/R CMD INSTALL MOGAMUN StartedAt: 2024-10-16 17:44:17 -0400 (Wed, 16 Oct 2024) EndedAt: 2024-10-16 17:44:25 -0400 (Wed, 16 Oct 2024) EllapsedTime: 8.4 seconds RetCode: 0 Status: OK