Package: MOGAMUN Version: 1.14.0 Maintainer: Elva-MarĂ­a Novoa-del-Toro MaintainerEmail: elvanov at hotmail.com git_url: https://git.bioconductor.org/packages/MOGAMUN git_branch: RELEASE_3_19 git_last_commit: beaafaa git_last_commit_date: 2024-04-30 11:28:30 -0400 (Tue, 30 Apr 2024)