Package: MOFA2 Version: 1.14.0 Command: chmod a+r MOFA2 -R && F:\biocbuild\bbs-3.19-bioc\R\bin\R.exe CMD build --keep-empty-dirs --no-resave-data MOFA2 StartedAt: 2024-06-26 20:11:11 -0400 (Wed, 26 Jun 2024) EndedAt: 2024-06-26 20:15:17 -0400 (Wed, 26 Jun 2024) EllapsedTime: 246.1 seconds RetCode: 0 Status: OK PackageFile: MOFA2_1.14.0.tar.gz PackageFileSize: 3.134 MiB