Package: MOFA2 Version: 1.14.0 Command: /home/biocbuild/bbs-3.19-bioc/R/bin/R CMD INSTALL MOFA2 StartedAt: 2024-10-16 15:59:26 -0400 (Wed, 16 Oct 2024) EndedAt: 2024-10-16 15:59:46 -0400 (Wed, 16 Oct 2024) EllapsedTime: 20.7 seconds RetCode: 0 Status: OK