Package: MOFA2 Version: 1.14.0 Command: /home/biocbuild/bbs-3.19-bioc/R/bin/R CMD check --install=check:MOFA2.install-out.txt --library=/home/biocbuild/bbs-3.19-bioc/R/site-library --timings MOFA2_1.14.0.tar.gz StartedAt: 2024-10-17 02:38:17 -0400 (Thu, 17 Oct 2024) EndedAt: 2024-10-17 02:43:17 -0400 (Thu, 17 Oct 2024) EllapsedTime: 300.5 seconds RetCode: 0 Status: WARNINGS CheckDir: MOFA2.Rcheck Warnings: 1