Package: MOFA2 Version: 1.14.0 Command: /Library/Frameworks/R.framework/Resources/bin/R CMD check --install=check:MOFA2.install-out.txt --library=/Library/Frameworks/R.framework/Resources/library --no-vignettes --timings MOFA2_1.14.0.tar.gz StartedAt: 2024-10-17 09:01:32 -0400 (Thu, 17 Oct 2024) EndedAt: 2024-10-17 09:25:39 -0400 (Thu, 17 Oct 2024) EllapsedTime: 1447.1 seconds RetCode: 0 Status: WARNINGS CheckDir: MOFA2.Rcheck Warnings: 1