Package: MOFA2 Version: 1.14.0 Command: /Library/Frameworks/R.framework/Resources/bin/R CMD check --install=check:MOFA2.install-out.txt --library=/Library/Frameworks/R.framework/Resources/library --no-vignettes --timings MOFA2_1.14.0.tar.gz StartedAt: 2024-06-09 21:38:41 -0400 (Sun, 09 Jun 2024) EndedAt: 2024-06-09 21:42:23 -0400 (Sun, 09 Jun 2024) EllapsedTime: 222.2 seconds RetCode: 0 Status: WARNINGS CheckDir: MOFA2.Rcheck Warnings: 1