Package: MOFA2 Version: 1.14.0 Command: rm -rf MOFA2.buildbin-libdir && mkdir MOFA2.buildbin-libdir && /Users/biocbuild/BBS/utils/build-universal.sh MOFA2_1.14.0.tar.gz /Library/Frameworks/R.framework/Resources/bin/R MOFA2.buildbin-libdir StartedAt: 2024-06-10 00:27:49 -0400 (Mon, 10 Jun 2024) EndedAt: 2024-06-10 00:28:24 -0400 (Mon, 10 Jun 2024) EllapsedTime: 35.0 seconds RetCode: 0 Status: OK PackageFile: MOFA2_1.14.0.tgz PackageFileSize: 4.987 MiB