Package: MOFA2 Version: 1.14.0 Command: /home/biocbuild/R/R-beta-2024-04-15_r86425/bin/R CMD check --install=check:MOFA2.install-out.txt --library=/home/biocbuild/R/R-beta-2024-04-15_r86425/site-library --no-vignettes --timings MOFA2_1.14.0.tar.gz StartedAt: 2024-05-09 09:37:20 -0000 (Thu, 09 May 2024) EndedAt: 2024-05-09 09:41:41 -0000 (Thu, 09 May 2024) EllapsedTime: 261.4 seconds RetCode: 0 Status: WARNINGS CheckDir: MOFA2.Rcheck Warnings: 1