Package: MOFA2 Version: 1.14.0 Command: /home/biocbuild/R/R-beta-2024-04-15_r86425/bin/R CMD build --keep-empty-dirs --no-resave-data MOFA2 StartedAt: 2024-05-09 01:48:27 -0000 (Thu, 09 May 2024) EndedAt: 2024-05-09 01:51:17 -0000 (Thu, 09 May 2024) EllapsedTime: 170.2 seconds RetCode: 0 Status: OK PackageFile: MOFA2_1.14.0.tar.gz PackageFileSize: 3.527 MiB