Package: MMUPHin Version: 1.18.1 Command: chmod a+r MMUPHin -R && F:\biocbuild\bbs-3.19-bioc\R\bin\R.exe CMD build --keep-empty-dirs --no-resave-data MMUPHin StartedAt: 2024-06-26 20:09:02 -0400 (Wed, 26 Jun 2024) EndedAt: 2024-06-26 20:10:41 -0400 (Wed, 26 Jun 2024) EllapsedTime: 99.2 seconds RetCode: 0 Status: OK PackageFile: MMUPHin_1.18.1.tar.gz PackageFileSize: 3.376 MiB