Package: MMUPHin Version: 1.18.1 Command: rm -rf MMUPHin.buildbin-libdir && mkdir MMUPHin.buildbin-libdir && F:\biocbuild\bbs-3.19-bioc\R\bin\R.exe CMD INSTALL --build --library=MMUPHin.buildbin-libdir MMUPHin_1.18.1.tar.gz StartedAt: 2024-06-27 08:31:38 -0400 (Thu, 27 Jun 2024) EndedAt: 2024-06-27 08:31:54 -0400 (Thu, 27 Jun 2024) EllapsedTime: 15.9 seconds RetCode: 0 Status: OK PackageFile: MMUPHin_1.18.1.zip PackageFileSize: 2.394 MiB