Package: MMUPHin Version: 1.18.1 Command: /home/biocbuild/bbs-3.19-bioc/R/bin/R CMD build --keep-empty-dirs --no-resave-data MMUPHin StartedAt: 2024-10-16 19:33:20 -0400 (Wed, 16 Oct 2024) EndedAt: 2024-10-16 19:34:20 -0400 (Wed, 16 Oct 2024) EllapsedTime: 60.1 seconds RetCode: 0 Status: OK PackageFile: MMUPHin_1.18.1.tar.gz PackageFileSize: 3.519 MiB