Package: MMUPHin Version: 1.18.1 Command: /Library/Frameworks/R.framework/Resources/bin/R CMD build --keep-empty-dirs --no-resave-data MMUPHin StartedAt: 2024-10-16 21:03:52 -0400 (Wed, 16 Oct 2024) EndedAt: 2024-10-16 21:07:29 -0400 (Wed, 16 Oct 2024) EllapsedTime: 216.9 seconds RetCode: 0 Status: OK PackageFile: MMUPHin_1.18.1.tar.gz PackageFileSize: 3.561 MiB