Package: MMUPHin Version: 1.18.1 Command: /Library/Frameworks/R.framework/Resources/bin/R CMD check --install=check:MMUPHin.install-out.txt --library=/Library/Frameworks/R.framework/Resources/library --no-vignettes --timings MMUPHin_1.18.1.tar.gz StartedAt: 2024-06-09 21:36:45 -0400 (Sun, 09 Jun 2024) EndedAt: 2024-06-09 21:38:41 -0400 (Sun, 09 Jun 2024) EllapsedTime: 115.8 seconds RetCode: 0 Status: OK CheckDir: MMUPHin.Rcheck Warnings: 0