Package: MMUPHin Version: 1.18.0 Command: /home/biocbuild/R/R-beta-2024-04-15_r86425/bin/R CMD build --keep-empty-dirs --no-resave-data MMUPHin StartedAt: 2024-05-09 01:46:35 -0000 (Thu, 09 May 2024) EndedAt: 2024-05-09 01:48:30 -0000 (Thu, 09 May 2024) EllapsedTime: 115.2 seconds RetCode: 0 Status: OK PackageFile: MMUPHin_1.18.0.tar.gz PackageFileSize: 3.484 MiB