Package: MMUPHin Version: 1.18.1 Command: rm -rf MMUPHin.buildbin-libdir && mkdir MMUPHin.buildbin-libdir && /Users/biocbuild/BBS/utils/build-universal.sh MMUPHin_1.18.1.tar.gz /Library/Frameworks/R.framework/Resources/bin/R MMUPHin.buildbin-libdir StartedAt: 2024-06-11 12:06:46 -0400 (Tue, 11 Jun 2024) EndedAt: 2024-06-11 12:07:05 -0400 (Tue, 11 Jun 2024) EllapsedTime: 18.9 seconds RetCode: 0 Status: OK PackageFile: MMUPHin_1.18.1.tgz PackageFileSize: 2.574 MiB