Package: MMUPHin Version: 1.18.1 Command: /Library/Frameworks/R.framework/Resources/bin/R CMD INSTALL MMUPHin StartedAt: 2024-10-16 17:52:48 -0400 (Wed, 16 Oct 2024) EndedAt: 2024-10-16 17:52:56 -0400 (Wed, 16 Oct 2024) EllapsedTime: 8.7 seconds RetCode: 0 Status: OK