Package: MMUPHin Version: 1.18.1 Command: /Library/Frameworks/R.framework/Resources/bin/R CMD check --install=check:MMUPHin.install-out.txt --library=/Library/Frameworks/R.framework/Resources/library --no-vignettes --timings MMUPHin_1.18.1.tar.gz StartedAt: 2024-10-18 04:31:25 -0400 (Fri, 18 Oct 2024) EndedAt: 2024-10-18 04:33:15 -0400 (Fri, 18 Oct 2024) EllapsedTime: 109.7 seconds RetCode: 0 Status: OK CheckDir: MMUPHin.Rcheck Warnings: 0