Package: MMUPHin Version: 1.18.1 Command: /Library/Frameworks/R.framework/Resources/bin/R CMD build --keep-empty-dirs --no-resave-data MMUPHin StartedAt: 2024-10-17 04:50:00 -0400 (Thu, 17 Oct 2024) EndedAt: 2024-10-17 04:51:17 -0400 (Thu, 17 Oct 2024) EllapsedTime: 77.3 seconds RetCode: 0 Status: OK PackageFile: MMUPHin_1.18.1.tar.gz PackageFileSize: 3.561 MiB