Package: MMDiff2 Version: 1.32.0 Command: /Library/Frameworks/R.framework/Resources/bin/R CMD INSTALL MMDiff2 StartedAt: 2024-06-09 16:20:24 -0400 (Sun, 09 Jun 2024) EndedAt: 2024-06-09 16:21:22 -0400 (Sun, 09 Jun 2024) EllapsedTime: 57.8 seconds RetCode: 0 Status: OK