Package: MMAPPR2 Version: 1.18.0 Command: /home/biocbuild/bbs-3.19-bioc/R/bin/R CMD INSTALL MMAPPR2 StartedAt: 2024-10-16 16:15:16 -0400 (Wed, 16 Oct 2024) EndedAt: 2024-10-16 16:15:59 -0400 (Wed, 16 Oct 2024) EllapsedTime: 43.0 seconds RetCode: 0 Status: OK