Package: MMAPPR2 Version: 1.18.0 Command: /Library/Frameworks/R.framework/Resources/bin/R CMD INSTALL MMAPPR2 StartedAt: 2024-10-16 15:57:44 -0400 (Wed, 16 Oct 2024) EndedAt: 2024-10-16 15:59:28 -0400 (Wed, 16 Oct 2024) EllapsedTime: 104.5 seconds RetCode: 0 Status: OK