Package: MMAPPR2 Version: 1.18.0 Command: /Library/Frameworks/R.framework/Resources/bin/R CMD build --keep-empty-dirs --no-resave-data MMAPPR2 StartedAt: 2024-10-16 21:01:06 -0400 (Wed, 16 Oct 2024) EndedAt: 2024-10-16 21:05:51 -0400 (Wed, 16 Oct 2024) EllapsedTime: 285.7 seconds RetCode: 1 Status: ERROR PackageFile: None PackageFileSize: NA