Package: MMAPPR2 Version: 1.18.0 Command: /home/biocbuild/R/R-beta-2024-04-15_r86425/bin/R CMD build --keep-empty-dirs --no-resave-data MMAPPR2 StartedAt: 2024-05-09 01:46:12 -0000 (Thu, 09 May 2024) EndedAt: 2024-05-09 01:48:10 -0000 (Thu, 09 May 2024) EllapsedTime: 118.1 seconds RetCode: 0 Status: OK PackageFile: MMAPPR2_1.18.0.tar.gz PackageFileSize: 473 KiB