Package: MLSeq Version: 2.22.0 Command: F:\biocbuild\bbs-3.19-bioc\R\bin\R.exe CMD check --no-multiarch --install=check:MLSeq.install-out.txt --library=F:\biocbuild\bbs-3.19-bioc\R\library --no-vignettes --timings MLSeq_2.22.0.tar.gz StartedAt: 2024-06-27 03:44:19 -0400 (Thu, 27 Jun 2024) EndedAt: 2024-06-27 03:48:31 -0400 (Thu, 27 Jun 2024) EllapsedTime: 251.2 seconds RetCode: 0 Status: OK CheckDir: MLSeq.Rcheck Warnings: 0