Package: MLSeq Version: 2.22.0 Command: /home/biocbuild/bbs-3.19-bioc/R/bin/R CMD INSTALL MLSeq StartedAt: 2024-10-16 16:36:34 -0400 (Wed, 16 Oct 2024) EndedAt: 2024-10-16 16:37:06 -0400 (Wed, 16 Oct 2024) EllapsedTime: 32.0 seconds RetCode: 0 Status: OK