Package: MLSeq Version: 2.22.0 Command: /home/biocbuild/R/R-beta-2024-04-15_r86425/bin/R CMD check --install=check:MLSeq.install-out.txt --library=/home/biocbuild/R/R-beta-2024-04-15_r86425/site-library --no-vignettes --timings MLSeq_2.22.0.tar.gz StartedAt: 2024-05-09 09:34:13 -0000 (Thu, 09 May 2024) EndedAt: 2024-05-09 09:38:53 -0000 (Thu, 09 May 2024) EllapsedTime: 280.5 seconds RetCode: 0 Status: OK CheckDir: MLSeq.Rcheck Warnings: 0