Package: MLSeq Version: 2.22.0 Command: /Library/Frameworks/R.framework/Resources/bin/R CMD build --keep-empty-dirs --no-resave-data MLSeq StartedAt: 2024-10-17 04:46:30 -0400 (Thu, 17 Oct 2024) EndedAt: 2024-10-17 04:48:31 -0400 (Thu, 17 Oct 2024) EllapsedTime: 121.1 seconds RetCode: 0 Status: OK PackageFile: MLSeq_2.22.0.tar.gz PackageFileSize: 599.3 KiB