Package: MLP Version: 1.52.0 Command: E:\biocbuild\bbs-3.19-bioc\R\bin\R.exe CMD INSTALL MLP StartedAt: 2024-10-16 16:16:55 -0400 (Wed, 16 Oct 2024) EndedAt: 2024-10-16 16:17:13 -0400 (Wed, 16 Oct 2024) EllapsedTime: 17.6 seconds RetCode: 0 Status: OK