Package: MLP Version: 1.52.0 Command: chmod a+r MLP -R && F:\biocbuild\bbs-3.19-bioc\R\bin\R.exe CMD build --keep-empty-dirs --no-resave-data MLP StartedAt: 2024-06-26 20:07:16 -0400 (Wed, 26 Jun 2024) EndedAt: 2024-06-26 20:12:31 -0400 (Wed, 26 Jun 2024) EllapsedTime: 314.5 seconds RetCode: 0 Status: OK PackageFile: MLP_1.52.0.tar.gz PackageFileSize: 4.14 MiB