Package: MLP Version: 1.52.0 Command: /Library/Frameworks/R.framework/Resources/bin/R CMD build --keep-empty-dirs --no-resave-data MLP StartedAt: 2024-10-16 21:01:01 -0400 (Wed, 16 Oct 2024) EndedAt: 2024-10-16 21:03:52 -0400 (Wed, 16 Oct 2024) EllapsedTime: 170.7 seconds RetCode: 0 Status: OK PackageFile: MLP_1.52.0.tar.gz PackageFileSize: 4.288 MiB