Package: MLP Version: 1.52.0 Command: /Library/Frameworks/R.framework/Resources/bin/R CMD check --install=check:MLP.install-out.txt --library=/Library/Frameworks/R.framework/Resources/library --no-vignettes --timings MLP_1.52.0.tar.gz StartedAt: 2024-06-09 21:36:20 -0400 (Sun, 09 Jun 2024) EndedAt: 2024-06-09 21:43:40 -0400 (Sun, 09 Jun 2024) EllapsedTime: 439.7 seconds RetCode: 0 Status: OK CheckDir: MLP.Rcheck Warnings: 0