Package: MLP Version: 1.52.0 Command: /Library/Frameworks/R.framework/Resources/bin/R CMD build --keep-empty-dirs --no-resave-data MLP StartedAt: 2024-06-09 17:18:32 -0400 (Sun, 09 Jun 2024) EndedAt: 2024-06-09 17:19:38 -0400 (Sun, 09 Jun 2024) EllapsedTime: 65.4 seconds RetCode: 0 Status: OK PackageFile: MLP_1.52.0.tar.gz PackageFileSize: 4.287 MiB