Package: MLP Version: 1.52.0 Command: /home/biocbuild/R/R-beta-2024-04-15_r86425/bin/R CMD check --install=check:MLP.install-out.txt --library=/home/biocbuild/R/R-beta-2024-04-15_r86425/site-library --no-vignettes --timings MLP_1.52.0.tar.gz StartedAt: 2024-05-09 09:33:56 -0000 (Thu, 09 May 2024) EndedAt: 2024-05-09 09:42:15 -0000 (Thu, 09 May 2024) EllapsedTime: 498.8 seconds RetCode: 0 Status: OK CheckDir: MLP.Rcheck Warnings: 0