Package: MLP Version: 1.52.0 Command: /Library/Frameworks/R.framework/Resources/bin/R CMD INSTALL MLP StartedAt: 2024-10-16 16:15:31 -0400 (Wed, 16 Oct 2024) EndedAt: 2024-10-16 16:15:46 -0400 (Wed, 16 Oct 2024) EllapsedTime: 15.4 seconds RetCode: 0 Status: OK