Package: MLInterfaces Version: 1.84.0 Command: rm -rf MLInterfaces.buildbin-libdir && mkdir MLInterfaces.buildbin-libdir && E:\biocbuild\bbs-3.19-bioc\R\bin\R.exe CMD INSTALL --build --library=MLInterfaces.buildbin-libdir MLInterfaces_1.84.0.tar.gz StartedAt: 2024-10-17 08:09:36 -0400 (Thu, 17 Oct 2024) EndedAt: 2024-10-17 08:11:09 -0400 (Thu, 17 Oct 2024) EllapsedTime: 92.4 seconds RetCode: 0 Status: OK PackageFile: MLInterfaces_1.84.0.zip PackageFileSize: 1.628 MiB